BEGIN:VCALENDAR
VERSION:2.0
PRODID:-//DIRK JENTSCHKE - ECPv6.15.20//NONSGML v1.0//EN
CALSCALE:GREGORIAN
METHOD:PUBLISH
X-WR-CALNAME:DIRK JENTSCHKE
X-ORIGINAL-URL:https://dirk-jentschke.de/www
X-WR-CALDESC:Veranstaltungen für DIRK JENTSCHKE
REFRESH-INTERVAL;VALUE=DURATION:PT1H
X-Robots-Tag:noindex
X-PUBLISHED-TTL:PT1H
BEGIN:VTIMEZONE
TZID:Europe/Berlin
BEGIN:DAYLIGHT
TZOFFSETFROM:+0100
TZOFFSETTO:+0200
TZNAME:CEST
DTSTART:20240331T010000
END:DAYLIGHT
BEGIN:STANDARD
TZOFFSETFROM:+0200
TZOFFSETTO:+0100
TZNAME:CET
DTSTART:20241027T010000
END:STANDARD
BEGIN:DAYLIGHT
TZOFFSETFROM:+0100
TZOFFSETTO:+0200
TZNAME:CEST
DTSTART:20250330T010000
END:DAYLIGHT
BEGIN:STANDARD
TZOFFSETFROM:+0200
TZOFFSETTO:+0100
TZNAME:CET
DTSTART:20251026T010000
END:STANDARD
BEGIN:DAYLIGHT
TZOFFSETFROM:+0100
TZOFFSETTO:+0200
TZNAME:CEST
DTSTART:20260329T010000
END:DAYLIGHT
BEGIN:STANDARD
TZOFFSETFROM:+0200
TZOFFSETTO:+0100
TZNAME:CET
DTSTART:20261025T010000
END:STANDARD
END:VTIMEZONE
BEGIN:VEVENT
DTSTART;TZID=Europe/Berlin:20250614T090000
DTEND;TZID=Europe/Berlin:20250614T190000
DTSTAMP:20260423T233152
CREATED:20250521T132842Z
LAST-MODIFIED:20250609T114845Z
UID:3214-1749891600-1749927600@dirk-jentschke.de
SUMMARY:Dein Weg zu Dir
DESCRIPTION:Da mich nun schon einige angesprochen haben: An dem Seminartag können Frauen und Männer teilnehmen. \nDein Weg zu dir mit Atem Körper und Gefühl\nGemeinsam begeben wir uns in den Prozess. Einen Prozess der uns inspiriert\, unsere Lunge mit frischer Energie füllt\, unseren Körper durch unwillkürliche Bewegungen belebt und unsere Gefühlsräume durch neue Erfahrungen öffnet. Wir erleben gemeinsam die Drei Ebenen von Atem\, Körper und Gefühlen. An diesem Tag begleiten wir dich in und auf deinem ganz eigenen Prozess und Weg. \nDeine Begleiter das sind Rolf Gassner \nund ich Dirk Jentschke. \nDer Tag ist von einer energetischen Mischung von uns beiden geprägt\, wir werden gemeinsam mehrere Runden Ehrliches Mitteilen nach Gopal Norbert klein erleben\, zusammen in die Tiefe des Verbundenen Atems nach Ruediger Dahlke gehen und uns bei Tension and Trauma releasing Exercises frei Zittern. Unser Angebot ist mehr als die aufgeführten Programmpunkt: Es entwickelt sich ein Prozess\, der ganz individuell bei dir\, in dir und während unserer gemeinsamen Stunden Vergangenes löst und zu Neuem ermutigt. Dabei sehen wir uns als Begleiter\, die dich durch deine Erfahrungsräume von Gedanken\, Gefühlen und Körperempfindungen hindurchführen. \n  \n			\n				\n				\n				\n				\n				\n			\n				\n				\n				\n				\n				\n					\n					\n						\n						Rolf Gassner\nWer bin ich?Warum bin ich hier? \nDiese Fragen bewegen mich seit meiner Jugend.Im Verlauf meines Lebens finden sich Erfahrungen von Entwurzelung\, Ausgrenzung\, Suche nach Zugehörigkeit in Randgruppen\, nach Glück und Erfüllung in rauschhaften Zuständen\, Ausbruch aus traditionellen Rollen und gesellschaftlichen Zwängen. \nMit 28 war ich ein körperliches und psychisches Wrack\, an diesem Tiefpunkt begann ein Wandel zum konstruktiven\, wodurch ich Stabilität im Außen & Innen erlangte. \nHeute habe ich meine wahren Wurzeln entdeckt und bin im Frieden mit meinen Ahnen.Tiefe Erfahrungen im Schattenreich – das Durchschreiten der dunklen Nacht der Seele – haben meinen Charakter geprägt und mich im Finden meiner Lebensaufgabe bestärkt. \nDie tiefste Erfahrung ist die Verbindung mit deiner wahren Natur. Ich sehe als meine Berufung an\, Menschen von der Illusion des Getrenntseins zu befreien\, indem ich ihnen Seinserfahrungen ermögliche – in der Natur bei einem Spirituellen Spaziergang oder durch den Verbundenen Atem. \nSchamanische und geomantische Techniken plus die Integrale Medizin von Ruediger Dahlke kombiniere ich zu einer wirk- und heilsamen Methode\, um deine Schatten zu entdecken\, zu erlösen und dein Potential zu entfalten. \nIch bin hier\, um dich zu inspirieren\, dein Herz zu berühren und mit deiner Göttlichkeit zu verbinden: \nMit Worten und Klängen\, Schwingungen und Gesängen\, mit der Energie von Orten und Kristallen\, verbinde ich dich mit Allem. Kraft meiner Stimme und durch Magie der Steine\, bringe ich dich mit allem was ist ins Reine. \nMehr über Rolf erfährst du auf seiner Website. \n					\n				\n			\n				\n				\n				\n				\n				\n			\n				\n				\n				\n				\n				\n					\n					\n						\n						Dirk Jentschke\nMehr über mich findest du hier. \n					\n				\n			\n				\n				\n				\n				\n				\n					\n					\n						\n						Was erwartet dich bei uns auf dem Seminartag?\n\nMehrere EM (Ehrliches Mitteilen) nach Gopal Norbert Klein Runden\nVerbundener Atem nach Rüdiger Dahlke\nTRE (Tension and trauma releasing exercises)\nGemeinsames\, veganes Abendessen am Seminarort\n\n  \nTagesablauf:\n09:00 Uhr ankommen im Seminarort \n09:30 Uhr Ehrliches Mitteilen mit Dirk10:30 Uhr kleine Pause10:45 Uhr TRE (Körperübungen zur Traumaheilung) mit Dirk \n12:45 Uhr Mittagspause \n14:15 Uhr EM mit Dirk \n15:00 Uhr Verbundener Atem mit Rolf \n17:30 Uhr EM (Ehrliches Mitteilen) mit Dirk \n18:15 Uhr Prozessintegration mit Dirk und Rolf \n18:45 Uhr gemeinsames Abendessen \n19:30 Uhr Ende \n  \nSeminarort:\nVilla Ankerraum\, ein wunderschöner raum in einer stattlichen alten Villa \nMühlbergerstraße 31\, 73728 Esslingen \nVilla Ankerraum \n  \nWas darf ich mitbringen:\n\nYogamatte und bequeme Unterlage/dickere Decke für die Atemsession\, dünne Decke für die Ruhephase\nLockere Kleidung mit Bewegungsfreiheit\nAusreichend Trinken für den Tag\nBitte verzichte auf das Frühstück\, auf leerem Magen kann die Atem Session intensiver wirken\n\n  \n					\n				\n			\n			\n				\n				\n				\n				\n				Anmeldeformular\n				\n				\n				\n					\n						\n				\n				\n				\n				\n				Neues Feld\n				\n			 \n				\n				\n				\n				\n				Vorname\n				\n			 \n				\n				\n				\n				\n				Nachname\n				\n			 \n				\n				\n				\n				\n				Email Addresse\n				\n			 \n				\n				\n				\n				\n				Telefonnummer \n				\n			 \n				\n				\n				\n				\n				Deine Nachricht...\n				\n			 \n						\n						\n							\n							Nachricht absenden
URL:https://dirk-jentschke.de/www/event/dein-weg-zu-dir-2/
LOCATION:Villa Ankerraum\, Mühlbergerstraße 31\, Esslingen\, 73728
END:VEVENT
END:VCALENDAR